BEGIN:VCALENDAR
VERSION:2.0
PRODID:-//jEvents 2.0 for Joomla//EN
CALSCALE:GREGORIAN
METHOD:PUBLISH
BEGIN:VTIMEZONE
TZID:Europe/Berlin
BEGIN:STANDARD
DTSTART:20131027T020000
RDATE:20140330T030000
TZOFFSETFROM:+0200
TZOFFSETTO:+0100
TZNAME:Europe/Berlin CET
END:STANDARD
BEGIN:STANDARD
DTSTART:20141026T020000
RDATE:20150329T030000
TZOFFSETFROM:+0200
TZOFFSETTO:+0100
TZNAME:Europe/Berlin CET
END:STANDARD
BEGIN:STANDARD
DTSTART:20151025T020000
RDATE:20160327T030000
TZOFFSETFROM:+0200
TZOFFSETTO:+0100
TZNAME:Europe/Berlin CET
END:STANDARD
BEGIN:STANDARD
DTSTART:20161030T020000
RDATE:20170326T030000
TZOFFSETFROM:+0200
TZOFFSETTO:+0100
TZNAME:Europe/Berlin CET
END:STANDARD
BEGIN:STANDARD
DTSTART:20171029T020000
RDATE:20180325T030000
TZOFFSETFROM:+0200
TZOFFSETTO:+0100
TZNAME:Europe/Berlin CET
END:STANDARD
BEGIN:STANDARD
DTSTART:20181028T020000
RDATE:20190331T030000
TZOFFSETFROM:+0200
TZOFFSETTO:+0100
TZNAME:Europe/Berlin CET
END:STANDARD
BEGIN:STANDARD
DTSTART:20191027T020000
RDATE:20200329T030000
TZOFFSETFROM:+0200
TZOFFSETTO:+0100
TZNAME:Europe/Berlin CET
END:STANDARD
BEGIN:STANDARD
DTSTART:20201025T020000
RDATE:20210328T030000
TZOFFSETFROM:+0200
TZOFFSETTO:+0100
TZNAME:Europe/Berlin CET
END:STANDARD
BEGIN:STANDARD
DTSTART:20211031T020000
RDATE:20220327T030000
TZOFFSETFROM:+0200
TZOFFSETTO:+0100
TZNAME:Europe/Berlin CET
END:STANDARD
BEGIN:STANDARD
DTSTART:20221030T020000
RDATE:20230326T030000
TZOFFSETFROM:+0200
TZOFFSETTO:+0100
TZNAME:Europe/Berlin CET
END:STANDARD
BEGIN:STANDARD
DTSTART:20231029T020000
RDATE:20240331T030000
TZOFFSETFROM:+0200
TZOFFSETTO:+0100
TZNAME:Europe/Berlin CET
END:STANDARD
BEGIN:STANDARD
DTSTART:20241027T020000
RDATE:20250330T030000
TZOFFSETFROM:+0200
TZOFFSETTO:+0100
TZNAME:Europe/Berlin CET
END:STANDARD
BEGIN:STANDARD
DTSTART:20251026T020000
RDATE:20260329T030000
TZOFFSETFROM:+0200
TZOFFSETTO:+0100
TZNAME:Europe/Berlin CET
END:STANDARD
BEGIN:STANDARD
DTSTART:20261025T020000
RDATE:20270328T030000
TZOFFSETFROM:+0200
TZOFFSETTO:+0100
TZNAME:Europe/Berlin CET
END:STANDARD
BEGIN:STANDARD
DTSTART:20271031T020000
RDATE:20280326T030000
TZOFFSETFROM:+0200
TZOFFSETTO:+0100
TZNAME:Europe/Berlin CET
END:STANDARD
BEGIN:DAYLIGHT
DTSTART:20130816T100000
RDATE:20131027T020000
TZOFFSETFROM:+0100
TZOFFSETTO:+0200
TZNAME:Europe/Berlin CEST
END:DAYLIGHT
BEGIN:DAYLIGHT
DTSTART:20140330T030000
RDATE:20141026T020000
TZOFFSETFROM:+0100
TZOFFSETTO:+0200
TZNAME:Europe/Berlin CEST
END:DAYLIGHT
BEGIN:DAYLIGHT
DTSTART:20150329T030000
RDATE:20151025T020000
TZOFFSETFROM:+0100
TZOFFSETTO:+0200
TZNAME:Europe/Berlin CEST
END:DAYLIGHT
BEGIN:DAYLIGHT
DTSTART:20160327T030000
RDATE:20161030T020000
TZOFFSETFROM:+0100
TZOFFSETTO:+0200
TZNAME:Europe/Berlin CEST
END:DAYLIGHT
BEGIN:DAYLIGHT
DTSTART:20170326T030000
RDATE:20171029T020000
TZOFFSETFROM:+0100
TZOFFSETTO:+0200
TZNAME:Europe/Berlin CEST
END:DAYLIGHT
BEGIN:DAYLIGHT
DTSTART:20180325T030000
RDATE:20181028T020000
TZOFFSETFROM:+0100
TZOFFSETTO:+0200
TZNAME:Europe/Berlin CEST
END:DAYLIGHT
BEGIN:DAYLIGHT
DTSTART:20190331T030000
RDATE:20191027T020000
TZOFFSETFROM:+0100
TZOFFSETTO:+0200
TZNAME:Europe/Berlin CEST
END:DAYLIGHT
BEGIN:DAYLIGHT
DTSTART:20200329T030000
RDATE:20201025T020000
TZOFFSETFROM:+0100
TZOFFSETTO:+0200
TZNAME:Europe/Berlin CEST
END:DAYLIGHT
BEGIN:DAYLIGHT
DTSTART:20210328T030000
RDATE:20211031T020000
TZOFFSETFROM:+0100
TZOFFSETTO:+0200
TZNAME:Europe/Berlin CEST
END:DAYLIGHT
BEGIN:DAYLIGHT
DTSTART:20220327T030000
RDATE:20221030T020000
TZOFFSETFROM:+0100
TZOFFSETTO:+0200
TZNAME:Europe/Berlin CEST
END:DAYLIGHT
BEGIN:DAYLIGHT
DTSTART:20230326T030000
RDATE:20231029T020000
TZOFFSETFROM:+0100
TZOFFSETTO:+0200
TZNAME:Europe/Berlin CEST
END:DAYLIGHT
BEGIN:DAYLIGHT
DTSTART:20240331T030000
RDATE:20241027T020000
TZOFFSETFROM:+0100
TZOFFSETTO:+0200
TZNAME:Europe/Berlin CEST
END:DAYLIGHT
BEGIN:DAYLIGHT
DTSTART:20250330T030000
RDATE:20251026T020000
TZOFFSETFROM:+0100
TZOFFSETTO:+0200
TZNAME:Europe/Berlin CEST
END:DAYLIGHT
BEGIN:DAYLIGHT
DTSTART:20260329T030000
RDATE:20261025T020000
TZOFFSETFROM:+0100
TZOFFSETTO:+0200
TZNAME:Europe/Berlin CEST
END:DAYLIGHT
BEGIN:DAYLIGHT
DTSTART:20270328T030000
RDATE:20271031T020000
TZOFFSETFROM:+0100
TZOFFSETTO:+0200
TZNAME:Europe/Berlin CEST
END:DAYLIGHT
END:VTIMEZONE
BEGIN:VEVENT
UID:a8b32114b3ea66d5380b2b86e32f1995
CATEGORIES:Sport
CREATED:20140704T125336
SUMMARY:21. Rheinschwimmen Unkel
LOCATION:Bootshaus Kanu-Club Unkel
DESCRIPTION:Das RheinschwimmenDas Rheinschwimmen von Erpel nach Unkel ist in den vergan
 genen Jahren zu einem festen Bestandteil der Club-Aktivitäten geworden. Jed
 es Jahr zieht es hunderte Schwimmer nach Unkel, die das Bad im Rhein gut ge
 launt genießen und sich anschließend bei dem Fest auf dem Clubgelände entsp
 annen können. Das Rheinschwimmen hat dazu beigetragen, die Stadt Unkel und 
 den Kanu-Club Unkel auch über die Grenzen der Region bekannt zu machen. Wie
  jedes Jahr Startet am Kanu-Club Unkel ein Shuttlebus zum Start nach Erpel 
 an der Remagener Brücke. Nach ca. 3km schwimmen im Rhein ist das Ziel, das 
 Gelände des KCU wieder erreicht.
X-ALT-DESC;FMTTYPE=text/html:<big style="font-family: Helvetica, Arial, sans-serif; line-height: normal;
  text-align: justify;"><big><span style="font-weight: bold;">Das Rheinschwi
 mmen</span></big></big><br style="font-family: Helvetica, Arial, sans-serif
 ; font-size: medium; line-height: normal; text-align: justify;" /><br style
 ="font-family: Helvetica, Arial, sans-serif; font-size: medium; line-height
 : normal; text-align: justify;" /><span style="font-family: Helvetica, Aria
 l, sans-serif; font-size: medium; line-height: normal; text-align: justify;
 ">Das Rheinschwimmen von Erpel nach Unkel ist in den vergangenen Jahren zu 
 einem festen Bestandteil der Club-Aktivitäten geworden. </span><br style="f
 ont-family: Helvetica, Arial, sans-serif; font-size: medium; line-height: n
 ormal; text-align: justify;" /><br style="font-family: Helvetica, Arial, sa
 ns-serif; font-size: medium; line-height: normal; text-align: justify;" /><
 span style="font-family: Helvetica, Arial, sans-serif; font-size: medium; l
 ine-height: normal; text-align: justify;">Jedes Jahr zieht es hunderte Schw
 immer nach Unkel, die das Bad im Rhein gut gelaunt genießen und sich anschl
 ießend bei dem Fest auf dem Clubgelände entspannen können. </span><br style
 ="font-family: Helvetica, Arial, sans-serif; font-size: medium; line-height
 : normal; text-align: justify;" /><br style="font-family: Helvetica, Arial,
  sans-serif; font-size: medium; line-height: normal; text-align: justify;" 
 /><span style="font-family: Helvetica, Arial, sans-serif; font-size: medium
 ; line-height: normal; text-align: justify;">Das Rheinschwimmen hat dazu be
 igetragen, die Stadt Unkel und den Kanu-Club Unkel auch über die Grenzen de
 r Region bekannt zu machen. </span><br style="font-family: Helvetica, Arial
 , sans-serif; font-size: medium; line-height: normal; text-align: justify;"
  /><br style="font-family: Helvetica, Arial, sans-serif; font-size: medium;
  line-height: normal; text-align: justify;" /><span style="font-family: Hel
 vetica, Arial, sans-serif; font-size: medium; line-height: normal; text-ali
 gn: justify;">Wie jedes Jahr Startet am Kanu-Club Unkel ein Shuttlebus zum 
 Start nach Erpel an der Remagener Brücke. Nach ca. 3km schwimmen im Rhein i
 st das Ziel, das Gelände des KCU wieder erreicht.</span>
CONTACT:http://rheinschwimmen.kc-unkel.de
X-EXTRAINFO:Diese E-Mail-Adresse ist vor Spambots geschützt! Zur Anzeige muss JavaScrip
 t eingeschaltet sein!
				document.getElementById('cloak8f1528603dd7d32ed28
 b6da37004ad34').innerHTML = '';
				var prefix = '&#109;a' + 'i&#108;' + '&
 #116;o';
				var path = 'hr' + 'ef' + '=';
				var addy8f1528603dd7d32ed28b
 6da37004ad34 = 'rh&#101;&#105;nschw&#105;mm&#101;n' + '&#64;';
				addy8f15
 28603dd7d32ed28b6da37004ad34 = addy8f1528603dd7d32ed28b6da37004ad34 + 'kc-&
 #117;nk&#101;l' + '&#46;' + 'd&#101;';
				var addy_text8f1528603dd7d32ed28
 b6da37004ad34 = 'rh&#101;&#105;nschw&#105;mm&#101;n' + '&#64;' + 'kc-&#117;
 nk&#101;l' + '&#46;' + 'd&#101;';document.getElementById('cloak8f1528603dd7
 d32ed28b6da37004ad34').innerHTML += '<a ' + path + '\'' + prefix + ':' + ad
 dy8f1528603dd7d32ed28b6da37004ad34 + '\'>'+addy_text8f1528603dd7d32ed28b6da
 37004ad34+'';
		
DTSTAMP:20260419T194011
DTSTART;TZID=Europe/Berlin:20140817T100000
SEQUENCE:0
TRANSP:OPAQUE
END:VEVENT
END:VCALENDAR