BEGIN:VCALENDAR
VERSION:2.0
PRODID:-//jEvents 2.0 for Joomla//EN
CALSCALE:GREGORIAN
METHOD:PUBLISH
BEGIN:VTIMEZONE
TZID:Europe/Berlin
BEGIN:STANDARD
DTSTART:20161030T020000
RDATE:20170326T030000
TZOFFSETFROM:+0200
TZOFFSETTO:+0100
TZNAME:Europe/Berlin CET
END:STANDARD
BEGIN:STANDARD
DTSTART:20171029T020000
RDATE:20180325T030000
TZOFFSETFROM:+0200
TZOFFSETTO:+0100
TZNAME:Europe/Berlin CET
END:STANDARD
BEGIN:STANDARD
DTSTART:20181028T020000
RDATE:20190331T030000
TZOFFSETFROM:+0200
TZOFFSETTO:+0100
TZNAME:Europe/Berlin CET
END:STANDARD
BEGIN:STANDARD
DTSTART:20191027T020000
RDATE:20200329T030000
TZOFFSETFROM:+0200
TZOFFSETTO:+0100
TZNAME:Europe/Berlin CET
END:STANDARD
BEGIN:STANDARD
DTSTART:20201025T020000
RDATE:20210328T030000
TZOFFSETFROM:+0200
TZOFFSETTO:+0100
TZNAME:Europe/Berlin CET
END:STANDARD
BEGIN:STANDARD
DTSTART:20211031T020000
RDATE:20220327T030000
TZOFFSETFROM:+0200
TZOFFSETTO:+0100
TZNAME:Europe/Berlin CET
END:STANDARD
BEGIN:STANDARD
DTSTART:20221030T020000
RDATE:20230326T030000
TZOFFSETFROM:+0200
TZOFFSETTO:+0100
TZNAME:Europe/Berlin CET
END:STANDARD
BEGIN:STANDARD
DTSTART:20231029T020000
RDATE:20240331T030000
TZOFFSETFROM:+0200
TZOFFSETTO:+0100
TZNAME:Europe/Berlin CET
END:STANDARD
BEGIN:STANDARD
DTSTART:20241027T020000
RDATE:20250330T030000
TZOFFSETFROM:+0200
TZOFFSETTO:+0100
TZNAME:Europe/Berlin CET
END:STANDARD
BEGIN:STANDARD
DTSTART:20251026T020000
RDATE:20260329T030000
TZOFFSETFROM:+0200
TZOFFSETTO:+0100
TZNAME:Europe/Berlin CET
END:STANDARD
BEGIN:STANDARD
DTSTART:20261025T020000
RDATE:20270328T030000
TZOFFSETFROM:+0200
TZOFFSETTO:+0100
TZNAME:Europe/Berlin CET
END:STANDARD
BEGIN:STANDARD
DTSTART:20271031T020000
RDATE:20280326T030000
TZOFFSETFROM:+0200
TZOFFSETTO:+0100
TZNAME:Europe/Berlin CET
END:STANDARD
BEGIN:DAYLIGHT
DTSTART:20160401T080000
RDATE:20161030T020000
TZOFFSETFROM:+0100
TZOFFSETTO:+0200
TZNAME:Europe/Berlin CEST
END:DAYLIGHT
BEGIN:DAYLIGHT
DTSTART:20170326T030000
RDATE:20171029T020000
TZOFFSETFROM:+0100
TZOFFSETTO:+0200
TZNAME:Europe/Berlin CEST
END:DAYLIGHT
BEGIN:DAYLIGHT
DTSTART:20180325T030000
RDATE:20181028T020000
TZOFFSETFROM:+0100
TZOFFSETTO:+0200
TZNAME:Europe/Berlin CEST
END:DAYLIGHT
BEGIN:DAYLIGHT
DTSTART:20190331T030000
RDATE:20191027T020000
TZOFFSETFROM:+0100
TZOFFSETTO:+0200
TZNAME:Europe/Berlin CEST
END:DAYLIGHT
BEGIN:DAYLIGHT
DTSTART:20200329T030000
RDATE:20201025T020000
TZOFFSETFROM:+0100
TZOFFSETTO:+0200
TZNAME:Europe/Berlin CEST
END:DAYLIGHT
BEGIN:DAYLIGHT
DTSTART:20210328T030000
RDATE:20211031T020000
TZOFFSETFROM:+0100
TZOFFSETTO:+0200
TZNAME:Europe/Berlin CEST
END:DAYLIGHT
BEGIN:DAYLIGHT
DTSTART:20220327T030000
RDATE:20221030T020000
TZOFFSETFROM:+0100
TZOFFSETTO:+0200
TZNAME:Europe/Berlin CEST
END:DAYLIGHT
BEGIN:DAYLIGHT
DTSTART:20230326T030000
RDATE:20231029T020000
TZOFFSETFROM:+0100
TZOFFSETTO:+0200
TZNAME:Europe/Berlin CEST
END:DAYLIGHT
BEGIN:DAYLIGHT
DTSTART:20240331T030000
RDATE:20241027T020000
TZOFFSETFROM:+0100
TZOFFSETTO:+0200
TZNAME:Europe/Berlin CEST
END:DAYLIGHT
BEGIN:DAYLIGHT
DTSTART:20250330T030000
RDATE:20251026T020000
TZOFFSETFROM:+0100
TZOFFSETTO:+0200
TZNAME:Europe/Berlin CEST
END:DAYLIGHT
BEGIN:DAYLIGHT
DTSTART:20260329T030000
RDATE:20261025T020000
TZOFFSETFROM:+0100
TZOFFSETTO:+0200
TZNAME:Europe/Berlin CEST
END:DAYLIGHT
BEGIN:DAYLIGHT
DTSTART:20270328T030000
RDATE:20271031T020000
TZOFFSETFROM:+0100
TZOFFSETTO:+0200
TZNAME:Europe/Berlin CEST
END:DAYLIGHT
END:VTIMEZONE
BEGIN:VEVENT
UID:1ad4f5aadb0362d3fbef493a63d45b1f
CATEGORIES:Allgemein
CREATED:20170215T175501
SUMMARY:Deutsche Post Marathon Bonn
DESCRIPTION:Für den Marathon am 02. April habe ich den BWB wieder als Helferverein ange
 meldet. Wir werden wieder den Killometer 9 unterhalb der Beethovenhalle bis
  zum Opernhaus betreuen  und brauchen dort wieder ca. 12 Helfer, damit wir 
 wieder im "Schichtdienst" agieren können. Wer möchte helfen.\n\n 8:00 - 12:
 00 Uhr\n12:00 -15:30/16:00 Uhr\n\n Als besonderes Dankeschön wird es in die
 sem Jahr eine gemeinsames Helferessen am 02.04. um 18:00 Uhr in der Kajüte 
 geben.\nAlso noch ein Anreiz mehr, sich als Helfer zu melden.\n\nIch freue 
 mich auf eure Rückmeldung unter  (mailto:olaf.bonn@web.de)<a>Diese E-Mail-A
 dresse ist vor Spambots geschützt! Zur Anzeige muss JavaScript eingeschalte
 t sein!
				document.getElementById('cloak11e4acc85f4a7c476fbd4e7dda01a386'
 ).innerHTML = '';
				var prefix = '&#109;a' + 'i&#108;' + '&#116;o';
				v
 ar path = 'hr' + 'ef' + '=';
				var addy11e4acc85f4a7c476fbd4e7dda01a386 =
  '&#111;l&#97;f.b&#111;nn' + '&#64;';
				addy11e4acc85f4a7c476fbd4e7dda01a
 386 = addy11e4acc85f4a7c476fbd4e7dda01a386 + 'w&#101;b' + '&#46;' + 'd&#101
 ;';
				var addy_text11e4acc85f4a7c476fbd4e7dda01a386 = '&#111;l&#97;f.b&#1
 11;nn' + '&#64;' + 'w&#101;b' + '&#46;' + 'd&#101;';document.getElementById
 ('cloak11e4acc85f4a7c476fbd4e7dda01a386').innerHTML += '<a ' + path + '\'' 
 + prefix + ':' + addy11e4acc85f4a7c476fbd4e7dda01a386 + '\'>'+addy_text11e4
 acc85f4a7c476fbd4e7dda01a386+'';
		</a>\n\n\n\n
X-ALT-DESC;FMTTYPE=text/html:<p>Für den Marathon am 02. April habe ich den BWB wieder als Helferverein a
 ngemeldet. Wir werden wieder den Killometer 9 unterhalb der Beethovenhalle 
 bis zum Opernhaus betreuen  und brauchen dort wieder ca. 12 Helfer, damit w
 ir wieder im "Schichtdienst" agieren können. Wer möchte helfen.<br /><br />
  8:00 - 12:00 Uhr</p><p>12:00 -15:30/16:00 Uhr<br /><br /> Als besonderes D
 ankeschön wird es in diesem Jahr eine gemeinsames Helferessen am 02.04. um 
 18:00 Uhr in der Kajüte geben.<br />Also noch ein Anreiz mehr, sich als Hel
 fer zu melden.<br /><br />Ich freue mich auf eure Rückmeldung unter <a href
 ="mailto:olaf.bonn@web.de"><a><span id="cloak11e4acc85f4a7c476fbd4e7dda01a3
 86">Diese E-Mail-Adresse ist vor Spambots geschützt! Zur Anzeige muss JavaS
 cript eingeschaltet sein!</span><script type='text/javascript'>
				documen
 t.getElementById('cloak11e4acc85f4a7c476fbd4e7dda01a386').innerHTML = '';
	
 			var prefix = '&#109;a' + 'i&#108;' + '&#116;o';
				var path = 'hr' + 'e
 f' + '=';
				var addy11e4acc85f4a7c476fbd4e7dda01a386 = '&#111;l&#97;f.b&#
 111;nn' + '&#64;';
				addy11e4acc85f4a7c476fbd4e7dda01a386 = addy11e4acc85
 f4a7c476fbd4e7dda01a386 + 'w&#101;b' + '&#46;' + 'd&#101;';
				var addy_te
 xt11e4acc85f4a7c476fbd4e7dda01a386 = '&#111;l&#97;f.b&#111;nn' + '&#64;' + 
 'w&#101;b' + '&#46;' + 'd&#101;';document.getElementById('cloak11e4acc85f4a
 7c476fbd4e7dda01a386').innerHTML += '<a ' + path + '\'' + prefix + ':' + ad
 dy11e4acc85f4a7c476fbd4e7dda01a386 + '\'>'+addy_text11e4acc85f4a7c476fbd4e7
 dda01a386+'<\/a>';
		</script></a><br /><br /><br /></a></p>
CONTACT:https://www.deutschepost-marathonbonn.de/
DTSTAMP:20260419T154633
DTSTART;TZID=Europe/Berlin:20170402T080000
DTEND;TZID=Europe/Berlin:20170402T160000
SEQUENCE:0
TRANSP:OPAQUE
END:VEVENT
END:VCALENDAR