BEGIN:VCALENDAR
VERSION:2.0
PRODID:-//jEvents 2.0 for Joomla//EN
CALSCALE:GREGORIAN
METHOD:PUBLISH
BEGIN:VTIMEZONE
TZID:Europe/Berlin
BEGIN:STANDARD
DTSTART:20241027T020000
RDATE:20250330T030000
TZOFFSETFROM:+0200
TZOFFSETTO:+0100
TZNAME:Europe/Berlin CET
END:STANDARD
BEGIN:STANDARD
DTSTART:20251026T020000
RDATE:20260329T030000
TZOFFSETFROM:+0200
TZOFFSETTO:+0100
TZNAME:Europe/Berlin CET
END:STANDARD
BEGIN:STANDARD
DTSTART:20261025T020000
RDATE:20270328T030000
TZOFFSETFROM:+0200
TZOFFSETTO:+0100
TZNAME:Europe/Berlin CET
END:STANDARD
BEGIN:STANDARD
DTSTART:20271031T020000
RDATE:20280326T030000
TZOFFSETFROM:+0200
TZOFFSETTO:+0100
TZNAME:Europe/Berlin CET
END:STANDARD
BEGIN:DAYLIGHT
DTSTART:20240703T000000
RDATE:20241027T020000
TZOFFSETFROM:+0100
TZOFFSETTO:+0200
TZNAME:Europe/Berlin CEST
END:DAYLIGHT
BEGIN:DAYLIGHT
DTSTART:20250330T030000
RDATE:20251026T020000
TZOFFSETFROM:+0100
TZOFFSETTO:+0200
TZNAME:Europe/Berlin CEST
END:DAYLIGHT
BEGIN:DAYLIGHT
DTSTART:20260329T030000
RDATE:20261025T020000
TZOFFSETFROM:+0100
TZOFFSETTO:+0200
TZNAME:Europe/Berlin CEST
END:DAYLIGHT
BEGIN:DAYLIGHT
DTSTART:20270328T030000
RDATE:20271031T020000
TZOFFSETFROM:+0100
TZOFFSETTO:+0200
TZNAME:Europe/Berlin CEST
END:DAYLIGHT
END:VTIMEZONE
BEGIN:VEVENT
UID:8ab1a9bb3400afc9a678cf9a480337f5
CATEGORIES:Sport
CREATED:20241206T153957
SUMMARY:EPP 1 + 2 Kurs
DESCRIPTION:Europäischer Paddelpass 1 +2, für Anfänger, mehrtägig a. d. Rhein o. Sieg\n
  \nDer Kursus findet an mehreren Tagen, immer Freitags ab 18 Uhr hier am Bo
 otshaus des BWB statt. Einführung und Theorie findet am 21.06.2025 ab 10Uhr
 -13Uhr statt. Boote und Material werden vom Verein gestellt. Die Teilnehmer
  müssen schwimmen können.\n\nKursgebühr 130,-€ für Nichtmitglieder, DKV/Ver
 einsmitglieder-Mitglieder 100,-€\n\nGewässer: Rhein , Sieg\nDisziplin: Frei
 zeitsport, Touring, \nBootsklasse: Kajak\n\nInfo\nvom 21.06.2025 bis ca. 11
 .07.2025\nMeldeschluss 06.06.2025\nAusrichterverein Wassersportverein Blau-
 Weiss-Bonn e.V.\nKanuausbilder Ja\nVergabe EPP- Zertifikat Basis-Stufe 1, S
 tufe 2, Touring, Kajak\nZielgruppe Anfänger, Erwachsene, Jugendliche, Senio
 ren, Lehrer/Pädagogen, alle Interessenten \n \nKontakt / Ansprechpartner \n
 Mike Moser\nTel : 0171 7490142\nMail: Diese E-Mail-Adresse ist vor Spambots
  geschützt! Zur Anzeige muss JavaScript eingeschaltet sein!
				document.ge
 tElementById('cloake707ed6cee4ea454bb0ce266a919e30a').innerHTML = '';
				v
 ar prefix = '&#109;a' + 'i&#108;' + '&#116;o';
				var path = 'hr' + 'ef' +
  '=';
				var addye707ed6cee4ea454bb0ce266a919e30a = 'm&#105;k&#101;' + '&#
 64;';
				addye707ed6cee4ea454bb0ce266a919e30a = addye707ed6cee4ea454bb0ce2
 66a919e30a + 'm&#111;s&#101;r-b&#111;nn' + '&#46;' + 'd&#101;';
				var add
 y_texte707ed6cee4ea454bb0ce266a919e30a = 'm&#105;k&#101;' + '&#64;' + 'm&#1
 11;s&#101;r-b&#111;nn' + '&#46;' + 'd&#101;';document.getElementById('cloak
 e707ed6cee4ea454bb0ce266a919e30a').innerHTML += '<a ' + path + '\'' + prefi
 x + ':' + addye707ed6cee4ea454bb0ce266a919e30a + '\'>'+addy_texte707ed6cee4
 ea454bb0ce266a919e30a+'';
		\nHomepage: www.bwb-kanu.de
X-ALT-DESC;FMTTYPE=text/html:Europäischer Paddelpass 1 +2, für Anfänger, mehrtägig a. d. Rhein o. Sieg<b
 r /> <br />Der Kursus findet an mehreren Tagen, immer Freitags ab 18 Uhr hi
 er am Bootshaus des BWB statt. Einführung und Theorie findet am 21.06.2025 
 ab 10Uhr-13Uhr statt. Boote und Material werden vom Verein gestellt. Die Te
 ilnehmer müssen schwimmen können.<br /><br />Kursgebühr 130,-€ für Nichtmit
 glieder, DKV/Vereinsmitglieder-Mitglieder 100,-€<br /><br />Gewässer: Rhein
  , Sieg<br />Disziplin: Freizeitsport, Touring, <br />Bootsklasse: Kajak<br
  /><br /><strong>Info<br /></strong>vom 21.06.2025 bis ca. 11.07.2025<br />
 Meldeschluss 06.06.2025<br />Ausrichterverein Wassersportverein Blau-Weiss-
 Bonn e.V.<br />Kanuausbilder Ja<br />Vergabe EPP- Zertifikat Basis-Stufe 1,
  Stufe 2, Touring, Kajak<br />Zielgruppe Anfänger, Erwachsene, Jugendliche,
  Senioren, Lehrer/Pädagogen, alle Interessenten <br /> <br /><strong>Kontak
 t /&nbsp;Ansprechpartner</strong> <br />Mike Moser<br />Tel : 0171 7490142<
 br />Mail: <span id="cloake707ed6cee4ea454bb0ce266a919e30a">Diese E-Mail-Ad
 resse ist vor Spambots geschützt! Zur Anzeige muss JavaScript eingeschaltet
  sein!</span><script type='text/javascript'>
				document.getElementById('c
 loake707ed6cee4ea454bb0ce266a919e30a').innerHTML = '';
				var prefix = '&#
 109;a' + 'i&#108;' + '&#116;o';
				var path = 'hr' + 'ef' + '=';
				var a
 ddye707ed6cee4ea454bb0ce266a919e30a = 'm&#105;k&#101;' + '&#64;';
				addye
 707ed6cee4ea454bb0ce266a919e30a = addye707ed6cee4ea454bb0ce266a919e30a + 'm
 &#111;s&#101;r-b&#111;nn' + '&#46;' + 'd&#101;';
				var addy_texte707ed6ce
 e4ea454bb0ce266a919e30a = 'm&#105;k&#101;' + '&#64;' + 'm&#111;s&#101;r-b&#
 111;nn' + '&#46;' + 'd&#101;';document.getElementById('cloake707ed6cee4ea45
 4bb0ce266a919e30a').innerHTML += '<a ' + path + '\'' + prefix + ':' + addye
 707ed6cee4ea454bb0ce266a919e30a + '\'>'+addy_texte707ed6cee4ea454bb0ce266a9
 19e30a+'<\/a>';
		</script><br />Homepage: www.bwb-kanu.de
DTSTAMP:20260421T152107
DTSTART;TZID=Europe/Berlin;VALUE=DATE:20250704
DTEND;TZID=Europe/Berlin;VALUE=DATE:20250705
SEQUENCE:0
TRANSP:OPAQUE
END:VEVENT
END:VCALENDAR